BEGIN:VCALENDAR
VERSION:2.0
PRODID:-//Kentucky Living - ECPv6.15.20//NONSGML v1.0//EN
CALSCALE:GREGORIAN
METHOD:PUBLISH
X-WR-CALNAME:Kentucky Living
X-ORIGINAL-URL:https://www.kentuckyliving.com
X-WR-CALDESC:Events for Kentucky Living
REFRESH-INTERVAL;VALUE=DURATION:PT1H
X-Robots-Tag:noindex
X-PUBLISHED-TTL:PT1H
BEGIN:VTIMEZONE
TZID:America/Kentucky/Louisville
BEGIN:DAYLIGHT
TZOFFSETFROM:-0500
TZOFFSETTO:-0400
TZNAME:EDT
DTSTART:20250309T070000
END:DAYLIGHT
BEGIN:STANDARD
TZOFFSETFROM:-0400
TZOFFSETTO:-0500
TZNAME:EST
DTSTART:20251102T060000
END:STANDARD
BEGIN:DAYLIGHT
TZOFFSETFROM:-0500
TZOFFSETTO:-0400
TZNAME:EDT
DTSTART:20260308T070000
END:DAYLIGHT
BEGIN:STANDARD
TZOFFSETFROM:-0400
TZOFFSETTO:-0500
TZNAME:EST
DTSTART:20261101T060000
END:STANDARD
BEGIN:DAYLIGHT
TZOFFSETFROM:-0500
TZOFFSETTO:-0400
TZNAME:EDT
DTSTART:20270314T070000
END:DAYLIGHT
BEGIN:STANDARD
TZOFFSETFROM:-0400
TZOFFSETTO:-0500
TZNAME:EST
DTSTART:20271107T060000
END:STANDARD
END:VTIMEZONE
BEGIN:VEVENT
DTSTART;TZID=America/Kentucky/Louisville:20260717T160000
DTEND;TZID=America/Kentucky/Louisville:20260717T230000
DTSTAMP:20260424T051113
CREATED:20260415T152643Z
LAST-MODIFIED:20260415T152643Z
UID:10022815-1784304000-1784329200@www.kentuckyliving.com
SUMMARY:Master Musicians Festival 2026
DESCRIPTION:Master Musicians Festival 2026 – SCC\, Festival Field\, 808 Monticello St. Somerset\, KY\, 4-11pm Friday; 11am-11pm Saturday. Join the MMF staff for the 33rd Annual Master Musicians Festival! The 2026 lineup features Trampled By Turtles\, The Creekers and includes Cigarettes @ Sunset\, Joslyn & The Sweet Compression\, Deeohgee\, Mama Said String Band\, Cam Clark & His Orchestra\, Them Lasses\, Jeremy & The Spawn\, The Catdaddies and more. Young songwriters include Andy Conner\, Brandon Denny\, Dalton Dailey\, Emma Hansman and Hunter Daniels. Info call 606-875-6732 or visit www.mastermusiciansfestival.org or www.facebook.com/mastermusicfest/ for tickets & a daily lineup.
URL:https://www.kentuckyliving.com/event/master-musicians-festival-2026
LOCATION:SCC Festival Field\, 808 Monticello St\, Somerset\, 42501
CATEGORIES:Arts and Crafts,Food,Kids and Family,Music and Concerts,Outdoors
ATTACH;FMTTYPE=image/jpeg:https://www.kentuckyliving.com/wp-content/uploads/2026/04/MMF-2026-poster.jpg
ORGANIZER;CN="Master Musicians Festival 2025":MAILTO:mastermusiciansfestival@gmail.com
GEO:37.0600384;-84.6164381
X-APPLE-STRUCTURED-LOCATION;VALUE=URI;X-ADDRESS=SCC Festival Field 808 Monticello St Somerset 42501;X-APPLE-RADIUS=500;X-TITLE=808 Monticello St:geo:-84.6164381,37.0600384
END:VEVENT
BEGIN:VEVENT
DTSTART;TZID=America/Kentucky/Louisville:20260717T190000
DTEND;TZID=America/Kentucky/Louisville:20260717T210000
DTSTAMP:20260424T051113
CREATED:20260409T151902Z
LAST-MODIFIED:20260409T151902Z
UID:10022787-1784314800-1784322000@www.kentuckyliving.com
SUMMARY:J2B2 – John Jorgenson Bluegrass Band
DESCRIPTION:Join us on July 16\, 2026 for J2B2 – John Jorgenson Bluegrass Band! \nJ2B2 is an all-star bluegrass supergroup featuring four legendary\, award-winning musicians: John Jorgensonon acoustic guitar\, mandolin and vocals; Herb Pedersen on banjo\, acoustic guitar and vocals; Patrick Sauber on acoustic guitar and vocals; and Mark Fain on bass – delivering bluegrass like no one has ever heard it before. \nThe combination of forces by Jorgenson\, Pedersen\, Sauber\, and Fain form a spot-on union of impeccable musicianship\, incomparable songwriting\, incredible harmony vocals (a fresh twist combining bluegrass with elements of West Coast folk rock) and seasoned showmanship. This is the “high lonesome sound” of American roots music at its finest. \nJohn Jorgenson is a co-founder (with Herb Pedersen and Chris Hillman) of the formative country rock group Desert Rose Band. In 1990\, Jorgenson founded the Hellecasters and toured with Sir Elton John’s band for six years\, before later reuniting with John as lead guitarist for many European dates of the record-breaking Farewell Yellow Brick Road Tour. An impressively eclectic range of artists including Sting\, Luciano Pavarotti\, Bonnie Raitt\, Billy Joel\, Barbra Streisand\, Bob Seger\, and Earl Scruggs have sought out Jorgenson to be part of their own recordings and/or performances. Music legends and guitar greats such as Tom Petty\, Peter Frampton\, Tommy Emmanuel\, Duane Eddy\, Joe Bonamassa and Brad Paisley have also sung Jorgenson’s praises. Jorgenson portrayed Django Reinhardt in the Hollywood feature film Head in the Clouds. In 2008\, Jorgenson won a GRAMMY® Award for Best Country Instrumental with Brad Paisley and was nominated for Best Bluegrass Album with Earl Scruggs. \nGRAMMY® Award Nominee Herb Pedersen is a former member of the Desert Rose Band\, legendary\nbluegrass band The Dillards and bluegrass super-group Old and In the Way\, among others. A soughtafter singer/songwriter\, musician\, and vocal arranger\, he has worked with such music legends as John\nFogerty\, Tom Petty\, Mudcrutch\, Chris Hillman\, Linda Ronstadt\, Jackson Browne\, Emmylou Harris\, Gram\nParsons\, Earl Scruggs\, Tony Rice\, Dan Fogelberg\, Kris Kristofferson\, John Prine\, Stephen Stills\, and\nJohn Denver. \nPatrick Sauber is a talented multi-instrumentalist who has quickly made a name for himself as a young\nperformer in the world of bluegrass\, folk\, western and old-time music. Equally adept on guitar\, mandolin\,\nbanjo and cajun accordion\, Sauber has played with Doc Watson\, Richard Greene\, Peter Rowan\, Tim\nO’Brien\, John Fogerty\, Laurie Lewis\, and John Reischman\, among others. Sauber played on the 2016\nGRAMMY®-nominated album The Hazel and Alice Sessions by Laurie Lewis and appeared in the film A\nMighty Wind with Christopher Guest. \nGRAMMY® Award-winning bassist and producer Mark Fain has recorded and performed with Bruce\nHornsby\, Dolly Parton\, Loretta Lynn\, Tom Petty\, John Oates\, Alan Jackson\, Ry Cooder\, John Fogerty\,\nChris Hillman\, Dwight Yoakam\, Alison Krauss\, Travis Tritt\, Joan Osborne\, The Chicks\, Martina McBride\,\nRosanne Cash\, Jack Black\, and Cody Johnson. Fain previously was a longtime member of Ricky Skaggs’\nband\, Kentucky Thunder. In addition to touring with J2B2\, Fain is a substitute player with the Grand Ole\nOpry house band in Nashville.
URL:https://www.kentuckyliving.com/event/j2b2-john-jorgenson-bluegrass-band
LOCATION:Bluegrass Music Hall of Fame & Museum\, 311 W 2nd Street\, Owensboro
CATEGORIES:Music and Concerts
ATTACH;FMTTYPE=image/jpeg:https://www.kentuckyliving.com/wp-content/uploads/2026/04/J2B2-Square.jpg
ORGANIZER;CN="Erin Rouse":MAILTO:erin@bluegrassmuseum.org
END:VEVENT
BEGIN:VEVENT
DTSTART;TZID=America/Kentucky/Louisville:20260718T160000
DTEND;TZID=America/Kentucky/Louisville:20260718T190000
DTSTAMP:20260424T051113
CREATED:20260420T131742Z
LAST-MODIFIED:20260420T131742Z
UID:10022848-1784390400-1784401200@www.kentuckyliving.com
SUMMARY:Schoolyard Winery's Farmers Market
DESCRIPTION:Sip\, shop\, and settle into the countryside at Schoolyard Winery’s Farmers Market. Each week brings a fresh mix of local farmers\, youth entrepreneurs\, and artisans — plus the relaxed winery atmosphere that makes every visit feel like a getaway. Whether you’re starting your day at the morning market or unwinding at an evening event\, you’ll find great company\, unique finds\, and the welcoming spirit of Verona. \n📅 Market Schedule: \nMorning Only Market\n🌄10:00 am – 1:00pm🌄 \nMay 2nd\nMay 9th\nMay 23rd\nMay 30th\nJune 6th\nJune 13th\nJune 27th\nJuly 11th\nJuly 25th\nAugust 1st\nAug 8-no market\nAugust 22nd\nAugust 29th\nSeptember 5th\nSeptember 12th\nSeptember26th\nOctober 3rd\nOctober 10th\nOctober 24th \nEvening Only Markets\n🌌4pm-7pm🌌 \nMay 16th\nJune 20th\nJuly 18th\nSeptember 19th\nOctober 17th \nSpecialty Shopping Extravaganzas!!! \nChristmas-in-July Spectacular!\nJuly 25th 1pm-5pm \nRemembering Woodstock\nAugust 15th 3pm-9pm \nGhouls N Goblins Trick-or-Treat/Halloween Party\nOctober 31st-3pm-9pm \nSmall Business Saturday\nNovember 21st-1pm-6pm \n📍 Schoolyard Winery\n14923 Walton-Verona Road\nVerona\, Kentucky 41092\n(across from the Verona post office) \n🌦️ In case of rain:\nThe morning market moves indoors. Please keep an eye on our Facebook page for updates! \n🛍️ Vendor Info:\nIndoor and outdoor spaces available.\nContact:\nGary: (859) 814-4126\nJenny – (859) 803-6597\n📞Gary: (859) 814-4126\n📞 Jenny: (859) 803-6597\n📞 Chris: (859) 242-2087 \nFollow Schoolyard Winery and Schoolyard Winery Farmers Market on Facebook for weekly updates and special events.
URL:https://www.kentuckyliving.com/event/schoolyard-winerys-farmers-market-8
LOCATION:Schoolyard Winery\, 14923 Walton-Verona Road Verona\, Kentucky 41092\, Verona
CATEGORIES:Arts and Crafts,City and Town Happenings,Farm,Food,Gardening,Home,Kids and Family,Music and Concerts,Outdoors
ATTACH;FMTTYPE=image/png:https://www.kentuckyliving.com/wp-content/uploads/2026/04/2026-Flyer_20260404_174621_00001.png
ORGANIZER;CN="Gary%2C Chris%2C or Jenny":MAILTO:veronawinery@gmail.com
END:VEVENT
BEGIN:VEVENT
DTSTART;TZID=America/Kentucky/Louisville:20260801T170000
DTEND;TZID=America/Kentucky/Louisville:20260801T200000
DTSTAMP:20260424T051113
CREATED:20260327T203246Z
LAST-MODIFIED:20260327T203246Z
UID:10022699-1785603600-1785614400@www.kentuckyliving.com
SUMMARY:2026 Frazier Summer Beer Fest
DESCRIPTION:Celebrate America250 at the sixth annual Frazier Summer Beer Fest! Featuring over 250 specialty beers\, food\, live music\, and Kentucky pride spilling over with each tasting. \nABOUT FRAZIER SUMMER BEER FEST \n2026 Frazier Summer Beer Fest\nSaturday\, August 1\, 2026\nVIP Admission\, 4–8 p.m.\nGeneral Admission\, 5–8 p.m. \nFrazier Kentucky History Museum\n829 West Main Street\nLouisville\, KY 40202 \nTICKETS \n· Early Bird\, March 16–April 6 at 11:59 p.m.: $80 (VIP)\, $40 (GA)\n· General Sale\, Starts April 7: $90 (VIP)\, $50 (GA)\n· Designated Driver Ticket: $10 \nDETAILS \nThis year’s beer fest will again take place in front of the museum\, on Main Street between Eighth and Ninth Streets; and on the side of the museum\, on Ninth Street between Main and Washington Streets. VIP ticketholders will get access to the museum\, including: indoor bathrooms and air conditioning\, vendors pouring exclusive VIP beers\, three floors of museum exhibitions to explore\, and the Frazier’s Gateway Garden\, which extends from Main to Washington Streets on the east side of the building. \nTraffic will be rerouted so the festival can occupy the whole block. \nON TAP \nThis year\, in honor of America250\, we will have about 250 specialty beers—many of which will be available exclusively to festivalgoers who purchased VIP Admission. On tap will be a wide variety of craft and specialty beers: over 80 local\, regional\, and out-of-state breweries will be represented. In addition to the selection of standard craft and specialty beers\, festivalgoers will have access to a selection of NA beers\, gluten-free/gluten-reduced beers\, low-calorie IPAs\, hard ciders\, and spiked seltzers. \nMUSIC \nOld Lou’s Ragtime Band will play jazz\, Dixieland\, and swing numbers. The four-piece rock band the Bourbonauts will perform as well! \nVIP TICKETS \nA VIP Ticket gets you: \n· Early access\n· Indoor access to museum exhibitions\n· Indoor bathrooms and air conditioning!\n· Access to the Frazier’s Gateway Garden and exclusive additional beers \nMORE INFO \nLearn more at fraziermuseum.org/beer-fest.
URL:https://www.kentuckyliving.com/event/2026-frazier-summer-beer-fest
LOCATION:Frazier Kentucky History Museum\, 829 W. Main St.\, Louisville
CATEGORIES:Exhibits,Festivals,Food,Fundraisers,History,Museums,Music and Concerts
ATTACH;FMTTYPE=image/jpeg:https://www.kentuckyliving.com/wp-content/uploads/2026/03/Beer-Fest-2026-Fare-Harbor-Image.jpg
ORGANIZER;CN="Simon Meiners":MAILTO:smeiners@fraziermuseum.org
END:VEVENT
BEGIN:VEVENT
DTSTART;TZID=America/Kentucky/Louisville:20260814T183000
DTEND;TZID=America/Kentucky/Louisville:20260814T213000
DTSTAMP:20260424T051113
CREATED:20260224T145155Z
LAST-MODIFIED:20260224T145155Z
UID:10022498-1786732200-1786743000@www.kentuckyliving.com
SUMMARY:Summer Music Series- Cam Clark and His Orchestra
DESCRIPTION:Second Fridays. All Summer. No Tickets Required. \nThe 4th Season of the Summer Music Series is HERE and your Second Fridays just got better. \nWHO: You. Bring a chair. Bring your people. Stay awhile.\nWHAT: FREE Live Music + Local Food & Drinks\nWHEN: Food & Drinks at 6:30 PM ET | Music at 6:45 PM ET\nWHERE: City Green Stage | Downtown Liberty \n2026 Lineup\, Every 2nd Friday\, May–September:\nMay 8- Clay Johnson and the Hard Promises with Alayna Bodner\nJune 12- The Dirty Grass Players with T.H. Wells\nJuly 10- Magnolia Boulevard with Anthony Kennedy\nAugust 14- Cam Clark and His Orchestra with Hunter Daniels\nSeptember 11- Nicholas Jamerson and The Morning Jays with Aidan Palmer \nFive unforgettable nights.\nOne incredible stage.\nAll summer long. \nClick “Going” on each event so you don’t miss updates.\nExploreLibertyKY.com | 606-706-7777 \n#LiveInLiberty #ExploreLiberty #SummerMusicSeries #LiveinLibertyMusic #KYTourism #TravelKY #FindingLiberty #KYMusic
URL:https://www.kentuckyliving.com/event/summer-music-series-cam-clark-and-his-orchestra
LOCATION:City Green Stage\, 518 Middleburg St.\, Liberty
CATEGORIES:Music and Concerts
ATTACH;FMTTYPE=image/png:https://www.kentuckyliving.com/wp-content/uploads/2026/02/aug-14-2026.png
ORGANIZER;CN="Heather":MAILTO:Heather@ExploreLibertyKy.com
END:VEVENT
BEGIN:VEVENT
DTSTART;TZID=America/Kentucky/Louisville:20260911T183000
DTEND;TZID=America/Kentucky/Louisville:20260911T213000
DTSTAMP:20260424T051113
CREATED:20260224T145708Z
LAST-MODIFIED:20260224T145708Z
UID:10022499-1789151400-1789162200@www.kentuckyliving.com
SUMMARY:Summer Music Series- Nicholas Jamerson and The Morning Jays
DESCRIPTION:Second Fridays. All Summer. No Tickets Required. \nThe 4th Season of the Summer Music Series is HERE and your Second Fridays just got better. \nWHO: You. Bring a chair. Bring your people. Stay awhile.\nWHAT: FREE Live Music + Local Food & Drinks\nWHEN: Food & Drinks at 6:30 PM ET | Music at 6:45 PM ET\nWHERE: City Green Stage | Downtown Liberty \n2026 Lineup\, Every 2nd Friday\, May–September:\nMay 8- Clay Johnson and the Hard Promises with Alayna Bodner\nJune 12- The Dirty Grass Players with T.H. Wells\nJuly 10- Magnolia Boulevard with Anthony Kennedy\nAugust 14- Cam Clark and His Orchestra with Hunter Daniels\nSeptember 11- Nicholas Jamerson and The Morning Jays with Aidan Palmer \nFive unforgettable nights.\nOne incredible stage.\nAll summer long. \nClick “Going” on each event so you don’t miss updates.\nExploreLibertyKY.com | 606-706-7777 \n#LiveInLiberty #ExploreLiberty #SummerMusicSeries #LiveinLibertyMusic #KYTourism #TravelKY #FindingLiberty #KYMusic
URL:https://www.kentuckyliving.com/event/summer-music-series-nicholas-jamerson-and-the-morning-jays
LOCATION:City Green Stage\, 518 Middleburg St.\, Liberty
CATEGORIES:Music and Concerts
ATTACH;FMTTYPE=image/png:https://www.kentuckyliving.com/wp-content/uploads/2026/02/Sept-11-2026.png
ORGANIZER;CN="Heather":MAILTO:Heather@ExploreLibertyKy.com
END:VEVENT
BEGIN:VEVENT
DTSTART;TZID=America/Kentucky/Louisville:20261017T160000
DTEND;TZID=America/Kentucky/Louisville:20261017T190000
DTSTAMP:20260424T051113
CREATED:20260420T132258Z
LAST-MODIFIED:20260420T132258Z
UID:10022847-1792252800-1792263600@www.kentuckyliving.com
SUMMARY:Schoolyard Winery's Farmers Market
DESCRIPTION:Sip\, shop\, and settle into the countryside at Schoolyard Winery’s Farmers Market. Each week brings a fresh mix of local farmers\, youth entrepreneurs\, and artisans — plus the relaxed winery atmosphere that makes every visit feel like a getaway. Whether you’re starting your day at the morning market or unwinding at an evening event\, you’ll find great company\, unique finds\, and the welcoming spirit of Verona. \n📅 Market Schedule: \nMorning Only Market\n🌄10:00 am – 1:00pm🌄 \nMay 2nd\nMay 9th\nMay 23rd\nMay 30th\nJune 6th\nJune 13th\nJune 27th\nJuly 11th\nJuly 25th\nAugust 1st\nAug 8-no market\nAugust 22nd\nAugust 29th\nSeptember 5th\nSeptember 12th\nSeptember26th\nOctober 3rd\nOctober 10th\nOctober 24th \nEvening Only Markets\n🌌4pm-7pm🌌 \nMay 16th\nJune 20th\nJuly 18th\nSeptember 19th\nOctober 17th \nSpecialty Shopping Extravaganzas!!! \nChristmas-in-July Spectacular!\nJuly 25th 1pm-5pm \nRemembering Woodstock\nAugust 15th 3pm-9pm \nGhouls N Goblins Trick-or-Treat/Halloween Party\nOctober 31st-3pm-9pm \nSmall Business Saturday\nNovember 21st-1pm-6pm \n📍 Schoolyard Winery\n14923 Walton-Verona Road\nVerona\, Kentucky 41092\n(across from the Verona post office) \n🌦️ In case of rain:\nThe morning market moves indoors. Please keep an eye on our Facebook page for updates! \n🛍️ Vendor Info:\nIndoor and outdoor spaces available.\nContact:\nGary: (859) 814-4126\nJenny – (859) 803-6597\n📞Gary: (859) 814-4126\n📞 Jenny: (859) 803-6597\n📞 Chris: (859) 242-2087 \nFollow Schoolyard Winery and Schoolyard Winery Farmers Market on Facebook for weekly updates and special events.
URL:https://www.kentuckyliving.com/event/schoolyard-winerys-farmers-market-10
LOCATION:Schoolyard Winery\, 14923 Walton-Verona Road Verona\, Kentucky 41092\, Verona
CATEGORIES:Arts and Crafts,City and Town Happenings,Farm,Food,Gardening,Home,Kids and Family,Music and Concerts,Outdoors
ATTACH;FMTTYPE=image/png:https://www.kentuckyliving.com/wp-content/uploads/2026/04/2026-Flyer_20260404_174621_0000.png
ORGANIZER;CN="Gary%2C Chris%2C or Jenny":MAILTO:veronawinery@gmail.com
END:VEVENT
END:VCALENDAR