BEGIN:VCALENDAR
VERSION:2.0
PRODID:-//Kentucky Living - ECPv6.15.20//NONSGML v1.0//EN
CALSCALE:GREGORIAN
METHOD:PUBLISH
X-ORIGINAL-URL:https://www.kentuckyliving.com
X-WR-CALDESC:Events for Kentucky Living
REFRESH-INTERVAL;VALUE=DURATION:PT1H
X-Robots-Tag:noindex
X-PUBLISHED-TTL:PT1H
BEGIN:VTIMEZONE
TZID:America/Kentucky/Louisville
BEGIN:DAYLIGHT
TZOFFSETFROM:-0500
TZOFFSETTO:-0400
TZNAME:EDT
DTSTART:20250309T070000
END:DAYLIGHT
BEGIN:STANDARD
TZOFFSETFROM:-0400
TZOFFSETTO:-0500
TZNAME:EST
DTSTART:20251102T060000
END:STANDARD
BEGIN:DAYLIGHT
TZOFFSETFROM:-0500
TZOFFSETTO:-0400
TZNAME:EDT
DTSTART:20260308T070000
END:DAYLIGHT
BEGIN:STANDARD
TZOFFSETFROM:-0400
TZOFFSETTO:-0500
TZNAME:EST
DTSTART:20261101T060000
END:STANDARD
BEGIN:DAYLIGHT
TZOFFSETFROM:-0500
TZOFFSETTO:-0400
TZNAME:EDT
DTSTART:20270314T070000
END:DAYLIGHT
BEGIN:STANDARD
TZOFFSETFROM:-0400
TZOFFSETTO:-0500
TZNAME:EST
DTSTART:20271107T060000
END:STANDARD
END:VTIMEZONE
BEGIN:VEVENT
DTSTART;TZID=America/Kentucky/Louisville:20260301T140000
DTEND;TZID=America/Kentucky/Louisville:20260301T160000
DTSTAMP:20260423T211518
CREATED:20260213T140746Z
LAST-MODIFIED:20260213T140746Z
UID:10022465-1772373600-1772380800@www.kentuckyliving.com
SUMMARY:Alltech Vocal Scholarship Competition
DESCRIPTION:Talented vocalists from across the U.S. and beyond will compete before a live audience in the 21st annual Alltech Vocal Scholarship Competition on Sunday\, March 1. This one-of-a-kind event awards more than $700\,000 in scholarships and prizes and provides an opportunity to attend the University of Kentucky as part of the UK Opera Theatre program. Doors open at 1:30 p.m. and the competition begins at 2 p.m. at the UK Singletary Center for the Arts. Admission is complimentary.
URL:https://www.kentuckyliving.com/event/alltech-vocal-scholarship-competition
LOCATION:Singletary Center for the Arts\, University of Kentucky\, 405 Rose St.\, Lexington
CATEGORIES:Music and Concerts
ATTACH;FMTTYPE=image/jpeg:https://www.kentuckyliving.com/wp-content/uploads/2026/02/Alltech-Vocal-Scholarship-Competition-2025-Winners_v2.jpg
ORGANIZER;CN="Alltech Events":MAILTO:events@alltech.com
END:VEVENT
END:VCALENDAR