BEGIN:VCALENDAR
VERSION:2.0
PRODID:-//Kentucky Living - ECPv6.15.20//NONSGML v1.0//EN
CALSCALE:GREGORIAN
METHOD:PUBLISH
X-WR-CALNAME:Kentucky Living
X-ORIGINAL-URL:https://www.kentuckyliving.com
X-WR-CALDESC:Events for Kentucky Living
REFRESH-INTERVAL;VALUE=DURATION:PT1H
X-Robots-Tag:noindex
X-PUBLISHED-TTL:PT1H
BEGIN:VTIMEZONE
TZID:America/Kentucky/Louisville
BEGIN:DAYLIGHT
TZOFFSETFROM:-0500
TZOFFSETTO:-0400
TZNAME:EDT
DTSTART:20250309T070000
END:DAYLIGHT
BEGIN:STANDARD
TZOFFSETFROM:-0400
TZOFFSETTO:-0500
TZNAME:EST
DTSTART:20251102T060000
END:STANDARD
BEGIN:DAYLIGHT
TZOFFSETFROM:-0500
TZOFFSETTO:-0400
TZNAME:EDT
DTSTART:20260308T070000
END:DAYLIGHT
BEGIN:STANDARD
TZOFFSETFROM:-0400
TZOFFSETTO:-0500
TZNAME:EST
DTSTART:20261101T060000
END:STANDARD
BEGIN:DAYLIGHT
TZOFFSETFROM:-0500
TZOFFSETTO:-0400
TZNAME:EDT
DTSTART:20270314T070000
END:DAYLIGHT
BEGIN:STANDARD
TZOFFSETFROM:-0400
TZOFFSETTO:-0500
TZNAME:EST
DTSTART:20271107T060000
END:STANDARD
END:VTIMEZONE
BEGIN:VEVENT
DTSTART;TZID=America/Kentucky/Louisville:20260719T080000
DTEND;TZID=America/Kentucky/Louisville:20260719T160000
DTSTAMP:20260423T172126
CREATED:20260209T134456Z
LAST-MODIFIED:20260209T134456Z
UID:10022446-1784448000-1784476800@www.kentuckyliving.com
SUMMARY:Minnie Adkins Day
DESCRIPTION:Minnie Adkins Day 2026\nElliott County’s Minnie Adkins Day is ready to go again. We want to invite everyone to come to one of the biggest and best folk-art festivals in eastern Kentucky. It is an outdoor festival held at the Little Sandy Lodge in Sandy Hook\, Kentucky on July 18\, 2026.\nMinnie Adkins Day started in July of 2014 as a way to honor our local resident folk artist Minnie Adkins and her contributions to Elliott County\, Kentucky. It is a local arts and crafts market with music\, entertainment\, fun\, and food. It gives us the chance to honor someone who has done so much for our county and people in general. \nMinnie Adkins is one of the best-known folk woodcarving artists in Kentucky. She is adept at creating animal carvings and has given generous assistance to her various neighbors to help them in developing art careers of their own. Minnie is known for her red foxes\, bears\, possums\, tigers\, and roosters. Her figures are smoothly carved and painted\, and the animal faces are distinctive. Minnie also carves and paints scenes from the Bible\, but overall\, her favorite subjects are animals.\nTo many in Kentucky\, the twig roosters carved by Minnie Adkins are synonymous with the term “folk art.” She taught herself to carve as a child\, and it was not until 1987 that she realized that others might be interested in buying her work. Not only were others interested\, but the demand was so high that her husband\, Garland Linville Adkins\, began carving as well. Together the two artists created some of the most sought-after folk art in the country.\nAlthough Garland passed away in 1997\, Minnie Adkins continued to create a diverse range of art\, including pottery. In 1999 she married Herman Peters\, and almost immediately inspired him to become an artist as well! Peters made giant iron roosters\, among other things. After Herman’s death on June 6\, 2008\, Minnie again continued to create her folk art now assisted by her grandson\, Greg Adkins\, and her son Mike Adkins.\nShe has been featured in short documentary films\, videos\, and many publications. In the late 1980s\, Minnie and Garland founded “A Day in the Country”\, a folk-art fair that featured works by over 50 folk artists from Kentucky and many other states. The American Folk Art Museum\, The Smithsonian\, The National Gallery of Art and many more collect Minnie’s works. Many critics consider her one of the most important artists of the twentieth century. Minnie continues to carve her iconic figures and collaborate with author\, Mike Norris\, on his children’s books. Her home county\, Elliott\, has designated the 3rd Saturday in July as a day to honor and celebrate its own resident Folk Artist.\nIf you have never visited you are welcome to join us for one of the biggest folk-art festivals in Eastern Kentucky\, Elliott County’s Minnie Adkins Day. Always held on the third Saturday of July\, Minnie Adkins Day will be filled with lots of art\, both folk and fine\, traditional heritage inspired crafts\, food\, music\, and loads of fun. The spaces for Vendor setup are still just $10 and are open to artists and crafts persons from everywhere. There is no admission for guests to get in. So just come on in to look\, shop\, and just visit with us for a while. For more information go to our website: https//www.littlesandylodge.com or call us at 606-738-5515 or you can check the Minnie Adkins page on Facebook. We hope to see you there.
URL:https://www.kentuckyliving.com/event/minnie-adkins-day
LOCATION:Little Sandy Lodge\, 1916 N. KY 32\, Sandy Hook\, KY 41171
CATEGORIES:Arts and Crafts
ATTACH;FMTTYPE=image/jpeg:https://www.kentuckyliving.com/wp-content/uploads/2026/02/minnie.jpeg
ORGANIZER;CN="Anita Skaggs":MAILTO:minnieadkinsday@yahoo.com
END:VEVENT
END:VCALENDAR