BEGIN:VCALENDAR
VERSION:2.0
PRODID:-//Kentucky Living - ECPv6.15.20//NONSGML v1.0//EN
CALSCALE:GREGORIAN
METHOD:PUBLISH
X-WR-CALNAME:Kentucky Living
X-ORIGINAL-URL:https://www.kentuckyliving.com
X-WR-CALDESC:Events for Kentucky Living
REFRESH-INTERVAL;VALUE=DURATION:PT1H
X-Robots-Tag:noindex
X-PUBLISHED-TTL:PT1H
BEGIN:VTIMEZONE
TZID:America/Kentucky/Louisville
BEGIN:DAYLIGHT
TZOFFSETFROM:-0500
TZOFFSETTO:-0400
TZNAME:EDT
DTSTART:20250309T070000
END:DAYLIGHT
BEGIN:STANDARD
TZOFFSETFROM:-0400
TZOFFSETTO:-0500
TZNAME:EST
DTSTART:20251102T060000
END:STANDARD
BEGIN:DAYLIGHT
TZOFFSETFROM:-0500
TZOFFSETTO:-0400
TZNAME:EDT
DTSTART:20260308T070000
END:DAYLIGHT
BEGIN:STANDARD
TZOFFSETFROM:-0400
TZOFFSETTO:-0500
TZNAME:EST
DTSTART:20261101T060000
END:STANDARD
BEGIN:DAYLIGHT
TZOFFSETFROM:-0500
TZOFFSETTO:-0400
TZNAME:EDT
DTSTART:20270314T070000
END:DAYLIGHT
BEGIN:STANDARD
TZOFFSETFROM:-0400
TZOFFSETTO:-0500
TZNAME:EST
DTSTART:20271107T060000
END:STANDARD
END:VTIMEZONE
BEGIN:VEVENT
DTSTART;TZID=America/Kentucky/Louisville:20261002T050000
DTEND;TZID=America/Kentucky/Louisville:20261002T170000
DTSTAMP:20260419T224620
CREATED:20260202T162340Z
LAST-MODIFIED:20260202T162340Z
UID:10022410-1790917200-1790960400@www.kentuckyliving.com
SUMMARY:18th Annual Kentucky State Disc Golf Championship
DESCRIPTION:18th Annual Kentucky State Disc Golf Championships\nPresented by the Hopkins County Tourist and Convention Commission \nJoin us in Madisonville\, KY\, for the 18th Annual Kentucky State Disc Golf Championships (PDGA A-Tier). This premier event features three days of competitive disc golf for Pros and Amateurs across two beautiful scenic courses. \nEvent Dates\nOctober 2 – October 4\, 2026 \nCourses\nMahr Park (Madisonville\, Ky).\nAddress – 465 Mahr Park Drive\, Madisonville\, KY 42431\nhttps://maps.app.goo.gl/2vG5mHr9VUL4szLy8 \nMadisonville City Park (Madisonville\, KY).\nAddress – 291 City Park Dr\, Madisonville\, KY 42431\nhttps://maps.app.goo.gl/9G9LPPmsCRWNQn7c8 \nTournament Central– will be inside the Madisonville City Park Club house all weekend starting Thursday Oct\, 01 2026.\nStrong Side Disc Golf Pro Shop will also be in the Club house. Stop by and check out the large selection of disc golf equipment. As well as picking up your Players Packs\n________________________________________\nAdditional Weekend Highlights\nThursday Flex Start (Oct 1)\n• Location: Madisonville City Park (PDGA C-Tier)\n• Time: 11:00 AM – 4:00 PM Tee Off\n• Entry: $25 (Open to all players)\n• Registration: Sign up on Disc Golf Scene \nSaturday Night Putting (Oct 3)\n• Location: Tradewater Brewing Co.\n• Time: Sign-ups at 5:30 PM | Start at 6:30 PM\n• Details: $5 entry\, random draw teams\, food truck on-site.
URL:https://www.kentuckyliving.com/event/18th-annual-kentucky-state-disc-golf-championship
LOCATION:Mahr Park Arboretum & Madisonville City Park\, 465 Mahr Park Drive\, Madisonville
CATEGORIES:Outdoors,Sports
ATTACH;FMTTYPE=image/jpeg:https://www.kentuckyliving.com/wp-content/uploads/2026/02/18th-annual-kentucky-state-disc-golf-.jpg
ORGANIZER;CN="Ben Shinn":MAILTO:cferguson@visitmadisonvilleky.com
END:VEVENT
END:VCALENDAR