BEGIN:VCALENDAR
VERSION:2.0
PRODID:-//Kentucky Living - ECPv6.15.20//NONSGML v1.0//EN
CALSCALE:GREGORIAN
METHOD:PUBLISH
X-ORIGINAL-URL:https://www.kentuckyliving.com
X-WR-CALDESC:Events for Kentucky Living
REFRESH-INTERVAL;VALUE=DURATION:PT1H
X-Robots-Tag:noindex
X-PUBLISHED-TTL:PT1H
BEGIN:VTIMEZONE
TZID:America/Kentucky/Louisville
BEGIN:DAYLIGHT
TZOFFSETFROM:-0500
TZOFFSETTO:-0400
TZNAME:EDT
DTSTART:20250309T070000
END:DAYLIGHT
BEGIN:STANDARD
TZOFFSETFROM:-0400
TZOFFSETTO:-0500
TZNAME:EST
DTSTART:20251102T060000
END:STANDARD
BEGIN:DAYLIGHT
TZOFFSETFROM:-0500
TZOFFSETTO:-0400
TZNAME:EDT
DTSTART:20260308T070000
END:DAYLIGHT
BEGIN:STANDARD
TZOFFSETFROM:-0400
TZOFFSETTO:-0500
TZNAME:EST
DTSTART:20261101T060000
END:STANDARD
BEGIN:DAYLIGHT
TZOFFSETFROM:-0500
TZOFFSETTO:-0400
TZNAME:EDT
DTSTART:20270314T070000
END:DAYLIGHT
BEGIN:STANDARD
TZOFFSETFROM:-0400
TZOFFSETTO:-0500
TZNAME:EST
DTSTART:20271107T060000
END:STANDARD
END:VTIMEZONE
BEGIN:VEVENT
DTSTART;TZID=America/Kentucky/Louisville:20260306T190000
DTEND;TZID=America/Kentucky/Louisville:20260306T203000
DTSTAMP:20260423T223814
CREATED:20260204T172531Z
LAST-MODIFIED:20260204T172531Z
UID:10022418-1772823600-1772829000@www.kentuckyliving.com
SUMMARY:Walk Two Moons
DESCRIPTION:Walk Two Moons\nTickets start at $15\nPerformances: March 6 – 15\, 2026\nStudio 1A in St. Matthews Station\n3900 Shelbyville Road\, 40207\n​\nBased on the Newbery Award winning novel by Sharon Creech\, adaptation by Tom Arvetis.\n​\nA heartfelt coming-of-age story for young audiences and the adults who love them.\n​\n“Don’t judge a man until you’ve walked two moons in his moccasins.” \nWalk Two Moons is lovingly adapted for the stage with the same nuance and surprises offered by the original book. Utilizing multiple narrative frames\, the play leaps back and forth through time and memory as 13-year-old Sal tells the story of the disappearance of her best friend Phoebe’s mother. \nDetermined to find her\, the two girls begin seeing murderous plots and schemes around every corner. Sal shares these conspiracy theories with her Gram and Gramps during a cross-country road trip to confront her own mother\, who left her and her father a year ago. But it is only through telling Phoebe’s story that Sal truly understands why her mother left and whether or not they’ll ever be together again.​ \nRecommended for ages 10 and up. \nFriday\, March 6 @ 7p.m.\nSaturday\, March 7 @ 2p.m.\nSaturday\, March 7 @ 7p.m.\nSunday\, March 8 @ 7p.m.\nFriday\, March 13 @ 7p.m.\nSaturday\, March 14 @ 2p.m.\nSaturday\, March 14 @ 7p.m.\nSunday\, March 15 @ 2p.m.
URL:https://www.kentuckyliving.com/event/walk-two-moons
LOCATION:Studio 1A\, 3900 Shelbyville Road\, Louisville
CATEGORIES:Kids and Family,Performing Arts
ATTACH;FMTTYPE=image/jpeg:https://www.kentuckyliving.com/wp-content/uploads/2026/02/WalkTwoMoonsFacebook_R1.jpg
ORGANIZER;CN="Beth Hall":MAILTO:admin@actlouisville.com
END:VEVENT
END:VCALENDAR