BEGIN:VCALENDAR
VERSION:2.0
PRODID:-//Kentucky Living - ECPv6.15.20//NONSGML v1.0//EN
CALSCALE:GREGORIAN
METHOD:PUBLISH
X-WR-CALNAME:Kentucky Living
X-ORIGINAL-URL:https://www.kentuckyliving.com
X-WR-CALDESC:Events for Kentucky Living
REFRESH-INTERVAL;VALUE=DURATION:PT1H
X-Robots-Tag:noindex
X-PUBLISHED-TTL:PT1H
BEGIN:VTIMEZONE
TZID:America/Kentucky/Louisville
BEGIN:DAYLIGHT
TZOFFSETFROM:-0500
TZOFFSETTO:-0400
TZNAME:EDT
DTSTART:20250309T070000
END:DAYLIGHT
BEGIN:STANDARD
TZOFFSETFROM:-0400
TZOFFSETTO:-0500
TZNAME:EST
DTSTART:20251102T060000
END:STANDARD
BEGIN:DAYLIGHT
TZOFFSETFROM:-0500
TZOFFSETTO:-0400
TZNAME:EDT
DTSTART:20260308T070000
END:DAYLIGHT
BEGIN:STANDARD
TZOFFSETFROM:-0400
TZOFFSETTO:-0500
TZNAME:EST
DTSTART:20261101T060000
END:STANDARD
BEGIN:DAYLIGHT
TZOFFSETFROM:-0500
TZOFFSETTO:-0400
TZNAME:EDT
DTSTART:20270314T070000
END:DAYLIGHT
BEGIN:STANDARD
TZOFFSETFROM:-0400
TZOFFSETTO:-0500
TZNAME:EST
DTSTART:20271107T060000
END:STANDARD
END:VTIMEZONE
BEGIN:VEVENT
DTSTART;TZID=America/Kentucky/Louisville:20260723T190000
DTEND;TZID=America/Kentucky/Louisville:20260723T203000
DTSTAMP:20260423T051421
CREATED:20260420T154200Z
LAST-MODIFIED:20260420T154200Z
UID:10022856-1784833200-1784838600@www.kentuckyliving.com
SUMMARY:Brad Brown's Comedy Magic Show
DESCRIPTION:Fun\, family-friendly comedy and magic presented weekly at The Madison Venue in Williamstown\, Kentucky. Brad Brown’s performance is 75-minutes with no intermission. It is presented in an intimate venue where every seat has a great view.
URL:https://www.kentuckyliving.com/event/brad-browns-comedy-magic-show-9
LOCATION:The Madison Venue\, 1404 N Main St.\, Williamstown
CATEGORIES:Kids and Family,Performing Arts
ATTACH;FMTTYPE=image/jpeg:https://www.kentuckyliving.com/wp-content/uploads/2026/04/heartland-table-1200x800-1.jpg
ORGANIZER;CN="Brad Brown":MAILTO:info@kentuckymagicshow.com
END:VEVENT
END:VCALENDAR