BEGIN:VCALENDAR
VERSION:2.0
PRODID:-//Kentucky Living - ECPv6.15.20//NONSGML v1.0//EN
CALSCALE:GREGORIAN
METHOD:PUBLISH
X-ORIGINAL-URL:https://www.kentuckyliving.com
X-WR-CALDESC:Events for Kentucky Living
REFRESH-INTERVAL;VALUE=DURATION:PT1H
X-Robots-Tag:noindex
X-PUBLISHED-TTL:PT1H
BEGIN:VTIMEZONE
TZID:America/Kentucky/Louisville
BEGIN:DAYLIGHT
TZOFFSETFROM:-0500
TZOFFSETTO:-0400
TZNAME:EDT
DTSTART:20250309T070000
END:DAYLIGHT
BEGIN:STANDARD
TZOFFSETFROM:-0400
TZOFFSETTO:-0500
TZNAME:EST
DTSTART:20251102T060000
END:STANDARD
BEGIN:DAYLIGHT
TZOFFSETFROM:-0500
TZOFFSETTO:-0400
TZNAME:EDT
DTSTART:20260308T070000
END:DAYLIGHT
BEGIN:STANDARD
TZOFFSETFROM:-0400
TZOFFSETTO:-0500
TZNAME:EST
DTSTART:20261101T060000
END:STANDARD
BEGIN:DAYLIGHT
TZOFFSETFROM:-0500
TZOFFSETTO:-0400
TZNAME:EDT
DTSTART:20270314T070000
END:DAYLIGHT
BEGIN:STANDARD
TZOFFSETFROM:-0400
TZOFFSETTO:-0500
TZNAME:EST
DTSTART:20271107T060000
END:STANDARD
END:VTIMEZONE
BEGIN:VEVENT
DTSTART;TZID=America/Kentucky/Louisville:20260510T100000
DTEND;TZID=America/Kentucky/Louisville:20260510T170000
DTSTAMP:20260423T213102
CREATED:20260421T200525Z
LAST-MODIFIED:20260421T200525Z
UID:10022861-1778407200-1778432400@www.kentuckyliving.com
SUMMARY:Bourbon City Steam’s “A Weekend At The Races!”
DESCRIPTION:Currently the only Steampunk convention in Kentucky\, Bourbon City Steam bring focus to our beautiful Bluegrass State with the 2026 theme: “A Weekend At The Races!”. Bourbon City Steam happens a few days after the famous Kentucky Derby\, showcasing racing\, bourbon\, horses and all things quintessentially Kentucky. \nSteampunk is a genre that mixes the Victorian Era (1801-1900) with science fiction that is dominated by historical or imagined steam-powered technology. This convention is considered a cosplay (or costume play) event where people are encouraged\, but not expected\, to dress up in period wear and step into an alternate reality for a weekend. \nBourbon City Steam has a wide variety of entertainment and all ages are encouraged to attend. \n“A Weekend At The Races” features vendors\, live entertainment\, parties\, workshops\, costume contests and The Steampunk Olympiad: a series of games throughout the weekend. All convention attendees are welcome to participate in all activities! \nWe also have an extensive list of special guests that will be on site.
URL:https://www.kentuckyliving.com/event/bourbon-city-steams-a-weekend-at-the-races-3
LOCATION:Holiday Inn Louisville East—Hurstbourne\, 1325 S Hurstbourne Pkwy\, Louisville
CATEGORIES:Festivals
ATTACH;FMTTYPE=image/jpeg:https://www.kentuckyliving.com/wp-content/uploads/2026/04/Launch-Graphic-FINAL22-scaled.jpg
ORGANIZER;CN="Geoffrey Mandragora":MAILTO:gmandragora@gmail.com
END:VEVENT
END:VCALENDAR