BEGIN:VCALENDAR
VERSION:2.0
PRODID:-//Kentucky Living - ECPv6.15.20//NONSGML v1.0//EN
CALSCALE:GREGORIAN
METHOD:PUBLISH
X-ORIGINAL-URL:https://www.kentuckyliving.com
X-WR-CALDESC:Events for Kentucky Living
REFRESH-INTERVAL;VALUE=DURATION:PT1H
X-Robots-Tag:noindex
X-PUBLISHED-TTL:PT1H
BEGIN:VTIMEZONE
TZID:America/Kentucky/Louisville
BEGIN:DAYLIGHT
TZOFFSETFROM:-0500
TZOFFSETTO:-0400
TZNAME:EDT
DTSTART:20250309T070000
END:DAYLIGHT
BEGIN:STANDARD
TZOFFSETFROM:-0400
TZOFFSETTO:-0500
TZNAME:EST
DTSTART:20251102T060000
END:STANDARD
BEGIN:DAYLIGHT
TZOFFSETFROM:-0500
TZOFFSETTO:-0400
TZNAME:EDT
DTSTART:20260308T070000
END:DAYLIGHT
BEGIN:STANDARD
TZOFFSETFROM:-0400
TZOFFSETTO:-0500
TZNAME:EST
DTSTART:20261101T060000
END:STANDARD
BEGIN:DAYLIGHT
TZOFFSETFROM:-0500
TZOFFSETTO:-0400
TZNAME:EDT
DTSTART:20270314T070000
END:DAYLIGHT
BEGIN:STANDARD
TZOFFSETFROM:-0400
TZOFFSETTO:-0500
TZNAME:EST
DTSTART:20271107T060000
END:STANDARD
END:VTIMEZONE
BEGIN:VEVENT
DTSTART;TZID=America/Kentucky/Louisville:20260426T190000
DTEND;TZID=America/Kentucky/Louisville:20260426T210000
DTSTAMP:20260423T104206
CREATED:20260420T123215Z
LAST-MODIFIED:20260420T123215Z
UID:10022833-1777230000-1777237200@www.kentuckyliving.com
SUMMARY:The Addams Family Musical (Madison Southern Drama)
DESCRIPTION:They’re creepy\, they’re kooky… and they’re ready for the stage. 🕸️ \nWe’re less than two weeks away from opening night and our cast of The Addams Family Musical is waiting to welcome you for one abnormal night at The Addams Family mansion. Get a sneak peek at the characters you’ll meet when the Addams family takes over the stage. \n📅 Show Dates:\nApril 23 – 7:00 PM\nApril 24 – 7:00 PM\nApril 25 – 7:00 PM\nApril 26 – 2:00 PM \n🎟️ Tickets are now available online for pre-purchase at bit.ly/mshsaddamsfamily so grab your seats early and join us for a creepy\, kooky\, mysterious\, and spooky night at the theater!
URL:https://www.kentuckyliving.com/event/the-addams-family-musical-madison-southern-drama-4
LOCATION:Madison Southern High School Auditorium\, 279 Glades Rd\, Berea
CATEGORIES:Arts,Kids and Family,Performing Arts
ATTACH;FMTTYPE=image/jpeg:https://www.kentuckyliving.com/wp-content/uploads/2026/04/IMG_7546.jpeg
ORGANIZER;CN="Jeremy Grant":MAILTO:jeremy.grant@madison.kyschools.us
END:VEVENT
END:VCALENDAR