BEGIN:VCALENDAR
VERSION:2.0
PRODID:-//Kentucky Living - ECPv6.15.20//NONSGML v1.0//EN
CALSCALE:GREGORIAN
METHOD:PUBLISH
X-WR-CALNAME:Kentucky Living
X-ORIGINAL-URL:https://www.kentuckyliving.com
X-WR-CALDESC:Events for Kentucky Living
REFRESH-INTERVAL;VALUE=DURATION:PT1H
X-Robots-Tag:noindex
X-PUBLISHED-TTL:PT1H
BEGIN:VTIMEZONE
TZID:America/Kentucky/Louisville
BEGIN:DAYLIGHT
TZOFFSETFROM:-0500
TZOFFSETTO:-0400
TZNAME:EDT
DTSTART:20250309T070000
END:DAYLIGHT
BEGIN:STANDARD
TZOFFSETFROM:-0400
TZOFFSETTO:-0500
TZNAME:EST
DTSTART:20251102T060000
END:STANDARD
BEGIN:DAYLIGHT
TZOFFSETFROM:-0500
TZOFFSETTO:-0400
TZNAME:EDT
DTSTART:20260308T070000
END:DAYLIGHT
BEGIN:STANDARD
TZOFFSETFROM:-0400
TZOFFSETTO:-0500
TZNAME:EST
DTSTART:20261101T060000
END:STANDARD
BEGIN:DAYLIGHT
TZOFFSETFROM:-0500
TZOFFSETTO:-0400
TZNAME:EDT
DTSTART:20270314T070000
END:DAYLIGHT
BEGIN:STANDARD
TZOFFSETFROM:-0400
TZOFFSETTO:-0500
TZNAME:EST
DTSTART:20271107T060000
END:STANDARD
END:VTIMEZONE
BEGIN:VEVENT
DTSTART;TZID=America/Kentucky/Louisville:20260418T100000
DTEND;TZID=America/Kentucky/Louisville:20260418T170000
DTSTAMP:20260419T160003
CREATED:20260216T163525Z
LAST-MODIFIED:20260216T163525Z
UID:10022472-1776506400-1776531600@www.kentuckyliving.com
SUMMARY:Pleasures of Fiber Faire
DESCRIPTION:A small group of fiber producers and crafters present this fiber festival in Pleasureville\, KY. This will be our 4th year for the event. The event will feature fiber\, fiber products\, food\, animals\, fiber equipment\, and classes. All set in an historic Dutch Meeting house.
URL:https://www.kentuckyliving.com/event/pleasures-of-fiber-faire
LOCATION:Pleasures of Fiber Faire\, 6805 Castle Hwy\, Pleasureville\, KY 40057
CATEGORIES:Arts and Crafts
ATTACH;FMTTYPE=image/jpeg:https://www.kentuckyliving.com/wp-content/uploads/2026/02/2026-fiber-faire.jpg
ORGANIZER;CN="JoAnn Adams":MAILTO:sweethomespun@icloud.com
END:VEVENT
END:VCALENDAR