BEGIN:VCALENDAR
VERSION:2.0
PRODID:-//Kentucky Living - ECPv6.15.20//NONSGML v1.0//EN
CALSCALE:GREGORIAN
METHOD:PUBLISH
X-WR-CALNAME:Kentucky Living
X-ORIGINAL-URL:https://www.kentuckyliving.com
X-WR-CALDESC:Events for Kentucky Living
REFRESH-INTERVAL;VALUE=DURATION:PT1H
X-Robots-Tag:noindex
X-PUBLISHED-TTL:PT1H
BEGIN:VTIMEZONE
TZID:America/Kentucky/Louisville
BEGIN:DAYLIGHT
TZOFFSETFROM:-0500
TZOFFSETTO:-0400
TZNAME:EDT
DTSTART:20250309T070000
END:DAYLIGHT
BEGIN:STANDARD
TZOFFSETFROM:-0400
TZOFFSETTO:-0500
TZNAME:EST
DTSTART:20251102T060000
END:STANDARD
BEGIN:DAYLIGHT
TZOFFSETFROM:-0500
TZOFFSETTO:-0400
TZNAME:EDT
DTSTART:20260308T070000
END:DAYLIGHT
BEGIN:STANDARD
TZOFFSETFROM:-0400
TZOFFSETTO:-0500
TZNAME:EST
DTSTART:20261101T060000
END:STANDARD
BEGIN:DAYLIGHT
TZOFFSETFROM:-0500
TZOFFSETTO:-0400
TZNAME:EDT
DTSTART:20270314T070000
END:DAYLIGHT
BEGIN:STANDARD
TZOFFSETFROM:-0400
TZOFFSETTO:-0500
TZNAME:EST
DTSTART:20271107T060000
END:STANDARD
END:VTIMEZONE
BEGIN:VEVENT
DTSTART;TZID=America/Kentucky/Louisville:20260523T090000
DTEND;TZID=America/Kentucky/Louisville:20260523T213000
DTSTAMP:20260420T184005
CREATED:20260217T151323Z
LAST-MODIFIED:20260217T151323Z
UID:10022482-1779526800-1779571800@www.kentuckyliving.com
SUMMARY:Burlington Spring Horse Show
DESCRIPTION:Two-day horse show featuring the American Saddlebred\, Hackney Pony and other breeds at the Boone County Fairgrounds. Proceeds will go to the Boone County Animal Shelter.
URL:https://www.kentuckyliving.com/event/burlington-spring-horse-show-2
LOCATION:Boone County Fairgrounds\, 5819 Idlewild Road\, Burlington\, KY\, 41005\, United States
CATEGORIES:Horses and Pets
ATTACH;FMTTYPE=image/png:https://www.kentuckyliving.com/wp-content/uploads/2026/02/BSHS-Logo-Updated1.png
ORGANIZER;CN="Laura Schmidt":MAILTO:manager@burlingtonspringhorseshow.com
GEO:39.0319668;-84.7322309
X-APPLE-STRUCTURED-LOCATION;VALUE=URI;X-ADDRESS=Boone County Fairgrounds 5819 Idlewild Road Burlington KY 41005 United States;X-APPLE-RADIUS=500;X-TITLE=5819 Idlewild Road:geo:-84.7322309,39.0319668
END:VEVENT
END:VCALENDAR