BEGIN:VCALENDAR
VERSION:2.0
PRODID:-//Kentucky Living - ECPv6.15.20//NONSGML v1.0//EN
CALSCALE:GREGORIAN
METHOD:PUBLISH
X-ORIGINAL-URL:https://www.kentuckyliving.com
X-WR-CALDESC:Events for Kentucky Living
REFRESH-INTERVAL;VALUE=DURATION:PT1H
X-Robots-Tag:noindex
X-PUBLISHED-TTL:PT1H
BEGIN:VTIMEZONE
TZID:America/Kentucky/Louisville
BEGIN:DAYLIGHT
TZOFFSETFROM:-0500
TZOFFSETTO:-0400
TZNAME:EDT
DTSTART:20250309T070000
END:DAYLIGHT
BEGIN:STANDARD
TZOFFSETFROM:-0400
TZOFFSETTO:-0500
TZNAME:EST
DTSTART:20251102T060000
END:STANDARD
BEGIN:DAYLIGHT
TZOFFSETFROM:-0500
TZOFFSETTO:-0400
TZNAME:EDT
DTSTART:20260308T070000
END:DAYLIGHT
BEGIN:STANDARD
TZOFFSETFROM:-0400
TZOFFSETTO:-0500
TZNAME:EST
DTSTART:20261101T060000
END:STANDARD
BEGIN:DAYLIGHT
TZOFFSETFROM:-0500
TZOFFSETTO:-0400
TZNAME:EDT
DTSTART:20270314T070000
END:DAYLIGHT
BEGIN:STANDARD
TZOFFSETFROM:-0400
TZOFFSETTO:-0500
TZNAME:EST
DTSTART:20271107T060000
END:STANDARD
END:VTIMEZONE
BEGIN:VEVENT
DTSTART;TZID=America/Kentucky/Louisville:20260912T100000
DTEND;TZID=America/Kentucky/Louisville:20260912T170000
DTSTAMP:20260424T014745
CREATED:20260417T121655Z
LAST-MODIFIED:20260417T121655Z
UID:10022828-1789207200-1789232400@www.kentuckyliving.com
SUMMARY:Harvest & Holly Craft Show
DESCRIPTION:Fall and Holiday Craft Show. Mark your calendars to come check out the Harvest & Holly Craft Show at the London Community Center September 12th from 10-5. This Fall and Christmas themed event will have 40 vendors from our area that will have tons of items for the perfect gift for any occasion.\nFREE PUBLIC ADMISSION\n🛍️ Shop lots of unique handmade goods from talented crafters and artists\n🍔 Grab a bite from local food vendor\, R&L Snack Shack
URL:https://www.kentuckyliving.com/event/harvest-holly-craft-show
LOCATION:London Community Center\, 529 South Main Street\, London
CATEGORIES:Arts and Crafts
ATTACH;FMTTYPE=image/jpeg:https://www.kentuckyliving.com/wp-content/uploads/2026/04/666911949_1581832263948821_8438409592430057718_n.jpg
ORGANIZER;CN="Pamela Settles":MAILTO:stitchintimeky@gmail.com
END:VEVENT
END:VCALENDAR