BEGIN:VCALENDAR
VERSION:2.0
PRODID:-//Kentucky Living - ECPv6.15.20//NONSGML v1.0//EN
CALSCALE:GREGORIAN
METHOD:PUBLISH
X-ORIGINAL-URL:https://www.kentuckyliving.com
X-WR-CALDESC:Events for Kentucky Living
REFRESH-INTERVAL;VALUE=DURATION:PT1H
X-Robots-Tag:noindex
X-PUBLISHED-TTL:PT1H
BEGIN:VTIMEZONE
TZID:America/Kentucky/Louisville
BEGIN:DAYLIGHT
TZOFFSETFROM:-0500
TZOFFSETTO:-0400
TZNAME:EDT
DTSTART:20250309T070000
END:DAYLIGHT
BEGIN:STANDARD
TZOFFSETFROM:-0400
TZOFFSETTO:-0500
TZNAME:EST
DTSTART:20251102T060000
END:STANDARD
BEGIN:DAYLIGHT
TZOFFSETFROM:-0500
TZOFFSETTO:-0400
TZNAME:EDT
DTSTART:20260308T070000
END:DAYLIGHT
BEGIN:STANDARD
TZOFFSETFROM:-0400
TZOFFSETTO:-0500
TZNAME:EST
DTSTART:20261101T060000
END:STANDARD
BEGIN:DAYLIGHT
TZOFFSETFROM:-0500
TZOFFSETTO:-0400
TZNAME:EDT
DTSTART:20270314T070000
END:DAYLIGHT
BEGIN:STANDARD
TZOFFSETFROM:-0400
TZOFFSETTO:-0500
TZNAME:EST
DTSTART:20271107T060000
END:STANDARD
END:VTIMEZONE
BEGIN:VEVENT
DTSTART;TZID=America/Kentucky/Louisville:20260502T090000
DTEND;TZID=America/Kentucky/Louisville:20260502T140000
DTSTAMP:20260419T174332
CREATED:20260223T171748Z
LAST-MODIFIED:20260223T171748Z
UID:10022492-1777712400-1777730400@www.kentuckyliving.com
SUMMARY:Campbell County Farm & Livestock Expo
DESCRIPTION:2026\nCOME JOIN US FOR THE CAMPBELL COUNTY FARM & LIVESTOCK EXPO ON SATURDAY\, 2 MAY FROM 9 AM TO 2 PM AT THE ALEXANDRIA FAIRGROUNDS. THIS IS A FREE EVENT\, RAIN OR SHINE\, WHERE YOU WILL BE ABLE TO SEE SHEEP & GOAT HOOF TRIMMING AND SHEARING\, PARTICIPATE IN THE TRACTOR DRIVING CONTEST FOR ALL AGES\, GET EXPERT ADVICE FROM AG INDUSTRY SPECIALISTS\, FREE GLUCOSE CHECK\, BID IN THE LIVE EQUIPMENT AUCTION BEGINNING AT 10 AM\, AND MORE! THAT’S SATURDAY\, 2 MAY\, FROM 9 AM TILL 2 PM RAIN OR SHINE. FOR DETAILS\, GO ONLINE TO CAMPBELLKYCONSERVATION.ORG. OR CAMPBELL COUNTY EXTENSION SERVICES.
URL:https://www.kentuckyliving.com/event/campbell-county-farm-livestock-expo
LOCATION:ALEXANDRIA FAIRGROUNDS\, 100 FAIRGROUNDS ROAD\, ALEXANDRIA
CATEGORIES:Education,Exhibits,Farm,Outdoors
ATTACH;FMTTYPE=image/jpeg:https://www.kentuckyliving.com/wp-content/uploads/2026/02/2026-expo-save-the-date-2.10.26.jpg
ORGANIZER;CN="PATTI DISCHAR":MAILTO:PATTI.DISCHAR@CAMPBELLKYCONSERVATION.ORG
END:VEVENT
END:VCALENDAR