BEGIN:VCALENDAR
VERSION:2.0
PRODID:-//Kentucky Living - ECPv6.15.20//NONSGML v1.0//EN
CALSCALE:GREGORIAN
METHOD:PUBLISH
X-WR-CALNAME:Kentucky Living
X-ORIGINAL-URL:https://www.kentuckyliving.com
X-WR-CALDESC:Events for Kentucky Living
REFRESH-INTERVAL;VALUE=DURATION:PT1H
X-Robots-Tag:noindex
X-PUBLISHED-TTL:PT1H
BEGIN:VTIMEZONE
TZID:America/Kentucky/Louisville
BEGIN:DAYLIGHT
TZOFFSETFROM:-0500
TZOFFSETTO:-0400
TZNAME:EDT
DTSTART:20250309T070000
END:DAYLIGHT
BEGIN:STANDARD
TZOFFSETFROM:-0400
TZOFFSETTO:-0500
TZNAME:EST
DTSTART:20251102T060000
END:STANDARD
BEGIN:DAYLIGHT
TZOFFSETFROM:-0500
TZOFFSETTO:-0400
TZNAME:EDT
DTSTART:20260308T070000
END:DAYLIGHT
BEGIN:STANDARD
TZOFFSETFROM:-0400
TZOFFSETTO:-0500
TZNAME:EST
DTSTART:20261101T060000
END:STANDARD
BEGIN:DAYLIGHT
TZOFFSETFROM:-0500
TZOFFSETTO:-0400
TZNAME:EDT
DTSTART:20270314T070000
END:DAYLIGHT
BEGIN:STANDARD
TZOFFSETFROM:-0400
TZOFFSETTO:-0500
TZNAME:EST
DTSTART:20271107T060000
END:STANDARD
END:VTIMEZONE
BEGIN:VEVENT
DTSTART;TZID=America/Kentucky/Louisville:20260425T090000
DTEND;TZID=America/Kentucky/Louisville:20260425T110000
DTSTAMP:20260419T123434
CREATED:20260212T140945Z
LAST-MODIFIED:20260212T140945Z
UID:10022456-1777107600-1777114800@www.kentuckyliving.com
SUMMARY:11th Annual Camel Color 5k
DESCRIPTION:Campbell County Band of Pride hosts our 11th Annual Camel Color 5k Walk/Run on Saturday\, April 25\, 2026 at 9 am. Come join us for a family fun experience! Get blasted with purple and gold color and support our Band of Pride! Swag bag\, door prizes\, refreshments\, music and more! Registration now open! Early Bird pricing through March 15: $35 per participant\, optional $15 t-shirt. Register at : https://runsignup.com/Race/KY/Alexandria/CamelColor5K\nStay tuned for more details at https://www.facebook.com/camelcolor5k/
URL:https://www.kentuckyliving.com/event/11th-annual-camel-color-5k
LOCATION:Campbell County High School\, 909 Camel Crossings\, Alexandria
CATEGORIES:Kids and Family
ATTACH;FMTTYPE=image/png:https://www.kentuckyliving.com/wp-content/uploads/2026/02/CC5k-logo-transparent.png
ORGANIZER;CN="Samantha Reinhart":MAILTO:camelcolor5k@gmail.com
END:VEVENT
END:VCALENDAR