BEGIN:VCALENDAR
VERSION:2.0
PRODID:-//Kentucky Living - ECPv6.15.20//NONSGML v1.0//EN
CALSCALE:GREGORIAN
METHOD:PUBLISH
X-WR-CALNAME:Kentucky Living
X-ORIGINAL-URL:https://www.kentuckyliving.com
X-WR-CALDESC:Events for Kentucky Living
REFRESH-INTERVAL;VALUE=DURATION:PT1H
X-Robots-Tag:noindex
X-PUBLISHED-TTL:PT1H
BEGIN:VTIMEZONE
TZID:America/Kentucky/Louisville
BEGIN:DAYLIGHT
TZOFFSETFROM:-0500
TZOFFSETTO:-0400
TZNAME:EDT
DTSTART:20250309T070000
END:DAYLIGHT
BEGIN:STANDARD
TZOFFSETFROM:-0400
TZOFFSETTO:-0500
TZNAME:EST
DTSTART:20251102T060000
END:STANDARD
BEGIN:DAYLIGHT
TZOFFSETFROM:-0500
TZOFFSETTO:-0400
TZNAME:EDT
DTSTART:20260308T070000
END:DAYLIGHT
BEGIN:STANDARD
TZOFFSETFROM:-0400
TZOFFSETTO:-0500
TZNAME:EST
DTSTART:20261101T060000
END:STANDARD
BEGIN:DAYLIGHT
TZOFFSETFROM:-0500
TZOFFSETTO:-0400
TZNAME:EDT
DTSTART:20270314T070000
END:DAYLIGHT
BEGIN:STANDARD
TZOFFSETFROM:-0400
TZOFFSETTO:-0500
TZNAME:EST
DTSTART:20271107T060000
END:STANDARD
END:VTIMEZONE
BEGIN:VEVENT
DTSTART;TZID=America/Kentucky/Louisville:20260607T120000
DTEND;TZID=America/Kentucky/Louisville:20260607T200000
DTSTAMP:20260423T051550
CREATED:20260415T121034Z
LAST-MODIFIED:20260415T121034Z
UID:10022814-1780833600-1780862400@www.kentuckyliving.com
SUMMARY:3rd Annual Happy Jack’s Winery Car Cruise In
DESCRIPTION:Come join us for a fun filled day of Vintage cars\, Jeeps\, ‘Stangs\, and more!!  12-5pm CST\nVisit our vendor booths from 12-5pm CST.\nAnd  food trucks on site all day!!\nLive Music with Emma Jean Bodner of Southern Sirens from 5-8pm CST.\nAnd of course\, you can enjoy all of\nthis while sippin’ on delicious Happy Jack’s Wine!!
URL:https://www.kentuckyliving.com/event/3rd-annual-happy-jacks-winery-car-cruise-in
LOCATION:Happy Jack’s Winery\, 1580 Morton Brown Lane\, Hardinsburg
CATEGORIES:Arts and Crafts,Cars,Food,Kids and Family,Music and Concerts,Outdoors
ATTACH;FMTTYPE=image/jpeg:https://www.kentuckyliving.com/wp-content/uploads/2026/04/IMG_1518-rotated.jpeg
ORGANIZER;CN="Tee Corbett-Pleasant":MAILTO:teern89@gmail.com
END:VEVENT
END:VCALENDAR